BEGIN:VCALENDAR
VERSION:2.0
PRODID:-//Downtown Racine Corporation - ECPv5.9.1//NONSGML v1.0//EN
CALSCALE:GREGORIAN
METHOD:PUBLISH
X-WR-CALNAME:Downtown Racine Corporation
X-ORIGINAL-URL:https://racinedowntown.com
X-WR-CALDESC:Events for Downtown Racine Corporation
BEGIN:VTIMEZONE
TZID:America/Chicago
BEGIN:DAYLIGHT
TZOFFSETFROM:-0600
TZOFFSETTO:-0500
TZNAME:CDT
DTSTART:20250309T080000
END:DAYLIGHT
BEGIN:STANDARD
TZOFFSETFROM:-0500
TZOFFSETTO:-0600
TZNAME:CST
DTSTART:20251102T070000
END:STANDARD
END:VTIMEZONE
BEGIN:VEVENT
DTSTART;TZID=America/Chicago:20250606T160000
DTEND;TZID=America/Chicago:20250606T210000
DTSTAMP:20260423T081105
CREATED:20241219T214829Z
LAST-MODIFIED:20250602T135351Z
UID:17648-1749225600-1749243600@racinedowntown.com
SUMMARY:June 6 First Friday - Summer Bash
DESCRIPTION:First Fridays are back and better than ever. Join us for the second First Friday of the 2025 season on Friday\, June 6\, as Downtown Racine transforms into the ultimate Summer Bash. From live music and food to a citywide art crawl and the unveiling of a brand-new public art project\, this event offers something for everyone. \nOFFICIAL PUBLIC ART UNVEILING\nThis First Friday will feature the official unveiling of the 2025 Downtown Public Art Project\, showcasing 30- 6’ tall metal kites created by Gateway Technical College welding students and painted by local artists. The kites will be displayed throughout Downtown Racine as part of this interactive installation.\nAttendees of all ages can participate in a kite-themed scavenger hunt. Complete the form and receive a $5 Downtown Gift Card. Forms can be downloaded at racinedowntown.com or picked up at locations throughout downtown\, including the Downtown Racine Corporation office at 425 Main Street. Many artists will be stationed near their kites\, offering the public a chance to learn more about their work and creative process. \nLIVE MUSIC & SUMMER FUN ON MONUMENT SQUARE\nCelebrate summer in the heart of the city with live music\, games\, food trucks\, free hot dogs\, a beer garden\, and more. Performances will include:\n• Night Wing at 5:00 p.m. – Crosswalk Park\n• Titus\, Rench & Wheary at 6:00 p.m. – Crosswalk Park\n• Hollow Moon at 6:00 p.m. – The Nash\n• Stevie Craig at 7:00 p.m. – Reefpoint Brew House \nLive music will also be featured at many downtown venues\, including Chartroom\, Bridge Tender Tavern\, Brickhouse\, The Ivanhoe\, Photographic Design & Framing\, and Uncorkt\, each offering their own unique atmosphere and entertainment. \nCREATIVE CRAWL RETURNS\nThe popular Creative Crawl returns with live art demos\, guest artists\, musicians\, and interactive displays across several downtown locations. Visit the following participating sites to get your passport stamped and enter to win prizes:\n• Artist Gallery\n• Racine Art Museum\n• Vintage & Modern Books\n• Photographic Design\n• Hot Shop Glass\n• Reefpoint Brew House\n• Unraveled Creative Studio\n• Uncorkt\n• Hotel Verdant \nSAVE THE DATES\nFirst Fridays continue every month from May through December\, with new themes and surprises each month. These events are a celebration of community\, creativity\, and the vibrant culture of Downtown Racine. \nParking is conveniently available at the Lake Avenue Ramp (300 Lake Avenue)\, Civic Centre Ramp (501 Lake Avenue)\, and the McMynn Ramp (120 7th Street) or Shoop (Main & State) for an all-day rate of only $4.00.
URL:https://racinedowntown.com/event/june-6-first-friday/
LOCATION:Downtown Racine\, Racine\, WI
CATEGORIES:Arts,Drink,Festivals,Market/Shopping,Music,Shopping
ATTACH;FMTTYPE=image/jpeg:https://racinedowntown.com/wp-content/uploads/2025/06/2025-fb-carousel-FF-June.jpg
END:VEVENT
BEGIN:VEVENT
DTSTART;TZID=America/Chicago:20250606T180000
DTEND;TZID=America/Chicago:20250606T203000
DTSTAMP:20260423T081105
CREATED:20241218T160658Z
LAST-MODIFIED:20241218T160658Z
UID:17158-1749232800-1749241800@racinedowntown.com
SUMMARY:Open mic nights
DESCRIPTION:Open mic night Friday nights
URL:https://racinedowntown.com/event/open-mic-nights/2025-06-06/
LOCATION:Czech Republic
CATEGORIES:Arts,Music
ATTACH;FMTTYPE=image/jpeg:https://racinedowntown.com/wp-content/uploads/2024/05/IMG_2875.jpeg
END:VEVENT
END:VCALENDAR