BEGIN:VCALENDAR
VERSION:2.0
PRODID:-//Downtown Racine Corporation - ECPv5.9.1//NONSGML v1.0//EN
CALSCALE:GREGORIAN
METHOD:PUBLISH
X-WR-CALNAME:Downtown Racine Corporation
X-ORIGINAL-URL:https://racinedowntown.com
X-WR-CALDESC:Events for Downtown Racine Corporation
BEGIN:VTIMEZONE
TZID:America/Chicago
BEGIN:DAYLIGHT
TZOFFSETFROM:-0600
TZOFFSETTO:-0500
TZNAME:CDT
DTSTART:20250309T080000
END:DAYLIGHT
BEGIN:STANDARD
TZOFFSETFROM:-0500
TZOFFSETTO:-0600
TZNAME:CST
DTSTART:20251102T070000
END:STANDARD
END:VTIMEZONE
BEGIN:VEVENT
DTSTART;TZID=America/Chicago:20250126T103000
DTEND;TZID=America/Chicago:20250126T130000
DTSTAMP:20260419T081156
CREATED:20241219T200552Z
LAST-MODIFIED:20241219T200602Z
UID:17312-1737887400-1737896400@racinedowntown.com
SUMMARY:Yarn Spinning 101 Class
DESCRIPTION:This class is designed for brand new fiber spinners who are eager to learn the basics of yarn spinning. Whether you use the provided drop spindle or opt to use your own spinning wheel\, we will guide you through transforming loose fiber into yarn! This class meets 2 seperate times. More information on our website!
URL:https://racinedowntown.com/event/yarn-spinning-101-class/
LOCATION:Unraveled Creative Studio\, 614 Sixth Street\, Racine\, 53403
CATEGORIES:Arts
ATTACH;FMTTYPE=image/png:https://racinedowntown.com/wp-content/uploads/2024/12/Spinning.png
ORGANIZER;CN="Unraveled%20Creative%20Studio":MAILTO:hello@unraveledcreativestudio.com
END:VEVENT
END:VCALENDAR