BEGIN:VCALENDAR
VERSION:2.0
PRODID:-//Downtown Racine Corporation - ECPv5.9.1//NONSGML v1.0//EN
CALSCALE:GREGORIAN
METHOD:PUBLISH
X-WR-CALNAME:Downtown Racine Corporation
X-ORIGINAL-URL:https://racinedowntown.com
X-WR-CALDESC:Events for Downtown Racine Corporation
BEGIN:VTIMEZONE
TZID:America/Chicago
BEGIN:DAYLIGHT
TZOFFSETFROM:-0600
TZOFFSETTO:-0500
TZNAME:CDT
DTSTART:20260308T080000
END:DAYLIGHT
BEGIN:STANDARD
TZOFFSETFROM:-0500
TZOFFSETTO:-0600
TZNAME:CST
DTSTART:20261101T070000
END:STANDARD
END:VTIMEZONE
BEGIN:VEVENT
DTSTART;TZID=America/Chicago:20260605T160000
DTEND;TZID=America/Chicago:20260605T210000
DTSTAMP:20260422T102746
CREATED:20251230T171413Z
LAST-MODIFIED:20251230T171413Z
UID:19496-1780675200-1780693200@racinedowntown.com
SUMMARY:"Summer Bash" First Friday
DESCRIPTION:First Fridays are back and better than ever. Join us for the second First Friday of the 2026 season on Friday\, June 5th\, as Downtown Racine transforms into the ultimate Summer Bash. From live music and food to a citywide art crawl and the unveiling of a brand-new public art project\, this event offers something for everyone. \nLIVE DJ & SUMMER FUN ON MONUMENT SQUARE\nCelebrate summer in the heart of the city with live music\, games\, food trucks\, free hot dogs\, a beer garden\, and more. Performances will include:\n•	Night Wing at 5:00 p.m. – Crosswalk Park\n•	Titus\, Rench & Wheary at 6:00 p.m. – Crosswalk Park\n•	TBD – First Ev. Lutheran Church\n•	Waiting for Eddie – George’s Encore\n•	TBD at 7:00 p.m. – Reefpoint Brew House \nLive music will also be featured at many downtown venues\, including Smoke’d on the Water\, Foxhole Lounge\, Harbor Lite Yacht Club\, Chartroom\, Bridge Tender Tavern\, Brickhouse\, The Ivanhoe\, Photographic Design & Framing\, and Uncorkt\, each offering its own unique atmosphere and entertainment. \nCREATIVE CRAWL RETURNS\nThe popular Creative Crawl returns with live art demos\, guest artists\, musicians\, and interactive displays across several downtown locations. Visit the following participating sites to get your passport stamped and enter to win prizes: \nParking is conveniently available at the Lake Avenue Ramp (300 Lake Avenue)\, Civic Centre Ramp (501 Lake Avenue)\, or Shoop (Main & State) for an all-day rate of only $4.00.
URL:https://racinedowntown.com/event/summer-bash-first-friday/
LOCATION:Downtown Racine\, Racine\, WI
CATEGORIES:Arts,Drink,Food,Music,Shopping
ATTACH;FMTTYPE=image/jpeg:https://racinedowntown.com/wp-content/uploads/2025/12/2026-fb-carousel-FF-June.jpg
END:VEVENT
END:VCALENDAR