BEGIN:VCALENDAR
VERSION:2.0
PRODID:-//Downtown Racine Corporation - ECPv5.9.1//NONSGML v1.0//EN
CALSCALE:GREGORIAN
METHOD:PUBLISH
X-WR-CALNAME:Downtown Racine Corporation
X-ORIGINAL-URL:https://racinedowntown.com
X-WR-CALDESC:Events for Downtown Racine Corporation
BEGIN:VTIMEZONE
TZID:America/Chicago
BEGIN:DAYLIGHT
TZOFFSETFROM:-0600
TZOFFSETTO:-0500
TZNAME:CDT
DTSTART:20260308T080000
END:DAYLIGHT
BEGIN:STANDARD
TZOFFSETFROM:-0500
TZOFFSETTO:-0600
TZNAME:CST
DTSTART:20261101T070000
END:STANDARD
END:VTIMEZONE
BEGIN:VEVENT
DTSTART;TZID=America/Chicago:20260307T150000
DTEND;TZID=America/Chicago:20260307T233000
DTSTAMP:20260420T043002
CREATED:20251219T192459Z
LAST-MODIFIED:20260227T192724Z
UID:19422-1772895600-1772926200@racinedowntown.com
SUMMARY:St. Paddy Pub Crawl
DESCRIPTION:St. Paddy Pub Crawl – March 7th \nRaise Your Glass to the 6th Annual St. Paddy Pub Crawl: A Day of Irish Shenanigans in Downtown Racine! Get ready to paint the town green on Saturday\, March 7\, from 3 pm to midnight\, as we invite you to join the most anticipated bar hop of the season – the St. Paddy Pub Crawl! \nHop Aboard the Fun Express: \nLeave the worries behind – we’ve got a FREE shuttle bus ready to chauffeur you to all the hottest bars in town. No need to navigate – just sit back\, relax\, and let the good times roll! \nIrish Extravaganza Awaits: \nImmerse yourself in the Irish spirit with green beer\, hearty corned beef and cabbage\, live music\, and exclusive Irish drink specials at every participating location. It’s a day-long party\, and you’re invited to revel in the fun. \nIrish Fare Delights: \nIndulge your taste buds in authentic Irish flavors with special food offerings at The Ivanhoe\, Marci’s on Main\, Foxhole Lounge (inside VFW)\, and Main Hub. \nHunt for Luck in the Scavenger Hunt: \nFor those seeking a touch of adventure\, embark on our scavenger hunt. Find at least 8 hidden items\, and you could be one of three lucky winners to take home a Downtown prize pack! Pick up your scavenger hunt cards at all locations or visit racinedowntown.com for more details. \nEasy Parking: \nFear not the quest for parking – the Lake Avenue Ramp\, McMynn\, and Shoop Ramp offer all-day parking for just $4
URL:https://racinedowntown.com/event/st-paddy-pub-crawl-2/
LOCATION:Downtown Racine\, Racine\, WI
CATEGORIES:Drink
ATTACH;FMTTYPE=image/jpeg:https://racinedowntown.com/wp-content/uploads/2025/12/St.-Paddy-Pub-Crawl-FB-carousel-2026-1.jpg
END:VEVENT
END:VCALENDAR