BEGIN:VCALENDAR
VERSION:2.0
PRODID:-//Downtown Racine Corporation - ECPv5.9.1//NONSGML v1.0//EN
CALSCALE:GREGORIAN
METHOD:PUBLISH
X-WR-CALNAME:Downtown Racine Corporation
X-ORIGINAL-URL:https://racinedowntown.com
X-WR-CALDESC:Events for Downtown Racine Corporation
BEGIN:VTIMEZONE
TZID:America/Chicago
BEGIN:DAYLIGHT
TZOFFSETFROM:-0600
TZOFFSETTO:-0500
TZNAME:CDT
DTSTART:20260308T080000
END:DAYLIGHT
BEGIN:STANDARD
TZOFFSETFROM:-0500
TZOFFSETTO:-0600
TZNAME:CST
DTSTART:20261101T070000
END:STANDARD
END:VTIMEZONE
BEGIN:VEVENT
DTSTART;TZID=America/Chicago:20260508T200000
DTEND;TZID=America/Chicago:20260531T200000
DTSTAMP:20260420T043752
CREATED:20250723T173203Z
LAST-MODIFIED:20250723T173203Z
UID:18816-1778270400-1780257600@racinedowntown.com
SUMMARY:SALMON-A-RAMA: the Sketch Comedy Puppet Musical that Your Children Won’t Understand
DESCRIPTION:SALMON-A-RAMA: the Sketch Comedy Puppet Musical that Your Children Won’t Understand. The original fishing face by Rich Smith and OOHP. \nThis is a big one; an original sketch comedy musical! There will be lots of local humor and reel laughs. SALMON-A-RAMA will have plenty of puppets\, parodies\, and punchlines. Grab your cheese curds; it’s sure to be slammin’. \n(If this were a movie\, we think it might be rated PG-13)\nMay 8\, 9\, 10; 15\, 16\, 17; 21\, 22\, 23\, 24; 28\, 29\, 30\, 31\nThursdays at 7 PM; Fridays at 8 PM; Saturdays 5 PM & 8 PM; Sundays at 2:30 PM
URL:https://racinedowntown.com/event/salmon-a-rama-the-sketch-comedy-puppet-musical-that-your-children-wont-understand/
LOCATION:Sixth Street Theatre\, 318 Sixth Street\, Racine\, WI\, 53403\, United States
CATEGORIES:Arts
ATTACH;FMTTYPE=image/jpeg:https://racinedowntown.com/wp-content/uploads/2025/07/04_SalmonaRama_TitleR1.jpg
ORGANIZER;CN="Over%20Our%20Head%20Players":MAILTO:boxoffice@overourheadplayers.org
END:VEVENT
END:VCALENDAR