BEGIN:VCALENDAR
VERSION:2.0
PRODID:-//Downtown Racine Corporation - ECPv5.9.1//NONSGML v1.0//EN
CALSCALE:GREGORIAN
METHOD:PUBLISH
X-WR-CALNAME:Downtown Racine Corporation
X-ORIGINAL-URL:https://racinedowntown.com
X-WR-CALDESC:Events for Downtown Racine Corporation
BEGIN:VTIMEZONE
TZID:America/Chicago
BEGIN:DAYLIGHT
TZOFFSETFROM:-0600
TZOFFSETTO:-0500
TZNAME:CDT
DTSTART:20250309T080000
END:DAYLIGHT
BEGIN:STANDARD
TZOFFSETFROM:-0500
TZOFFSETTO:-0600
TZNAME:CST
DTSTART:20251102T070000
END:STANDARD
END:VTIMEZONE
BEGIN:VEVENT
DTSTART;TZID=America/Chicago:20250531T150000
DTEND;TZID=America/Chicago:20250531T190000
DTSTAMP:20260420T074656
CREATED:20250424T134441Z
LAST-MODIFIED:20250527T132055Z
UID:18521-1748703600-1748718000@racinedowntown.com
SUMMARY:Renew You - Refresh\, Relax\, Rejuvenate
DESCRIPTION:You are invited to join us for this luxurious spa-day that includes \n• Expert Botox & Aesthetic Services\n• Luxurious Massage Therapy\n• Beauty Boosting Treatments \nFree services include foot baths\, wine tasting\, chiropractic consulting\, aromatherapy\, and more.\nFor purchase: wine\, massage\, facials\, Botox and other aesthetic injectables\, B12 shots\, and beauty\, healing\, essential oils\, and healing products.
URL:https://racinedowntown.com/event/renew-you-refresh-relax-rejuvenate/
LOCATION:518 College\, 518 College Avenue\, Racine\, WI\, 53403\, United States
CATEGORIES:Health and Wellness
ATTACH;FMTTYPE=image/jpeg:https://racinedowntown.com/wp-content/uploads/2025/04/renewyouimage2.jpg
END:VEVENT
END:VCALENDAR