BEGIN:VCALENDAR
VERSION:2.0
PRODID:-//Downtown Racine Corporation - ECPv5.9.1//NONSGML v1.0//EN
CALSCALE:GREGORIAN
METHOD:PUBLISH
X-WR-CALNAME:Downtown Racine Corporation
X-ORIGINAL-URL:https://racinedowntown.com
X-WR-CALDESC:Events for Downtown Racine Corporation
BEGIN:VTIMEZONE
TZID:America/Chicago
BEGIN:DAYLIGHT
TZOFFSETFROM:-0600
TZOFFSETTO:-0500
TZNAME:CDT
DTSTART:20240310T080000
END:DAYLIGHT
BEGIN:STANDARD
TZOFFSETFROM:-0500
TZOFFSETTO:-0600
TZNAME:CST
DTSTART:20241103T070000
END:STANDARD
END:VTIMEZONE
BEGIN:VEVENT
DTSTART;TZID=America/Chicago:20240818T100000
DTEND;TZID=America/Chicago:20240818T170000
DTSTAMP:20260422T064730
CREATED:20240408T165115Z
LAST-MODIFIED:20240408T165115Z
UID:11164-1723975200-1724000400@racinedowntown.com
SUMMARY:Racine Zoo Presents the 28th Annual Car\, Truck and Bike Show
DESCRIPTION:Sunday\, August 18\, 2024   |   10AM – 5PM\nAll ages are welcome to join car\, truck\, and motorcycle enthusiasts for a fantastic show of over 250 vehicles at Racine Zoo! We’ll be awarding over 75 trophies including Best of Show awards. There will be food and beverages available for purchase (please DO NOT bring your own liquor on property). Stroll around some amazing vehicles while listening to tunes and enjoying the beautiful lakefront. Event is held rain or shine. \nSPECIAL ADMISSION: \nAges 3 years and older: $5\nZoo Members: Free\nAges 2 years and younger: Free \nVEHICLE REGISTRATION (Click here or scroll down): \nEarly Vehicle Registration (Closes 8/14): $20\nDay of Vehicle Registration (Closes 10am 8/18): $25 \nOnline (Closes Wednesday\, August 14):\nFill out the entry form below \nDay of:\n8am – 10am \nAWARDS: \nAll ballots cast by 12:30pm\nAwards announced at 4pm \nPLEASE NOTE: \nRegistered or not registered cars\, trucks\, and bikes need to be on Zoo property by 10am or they will be turned away.\nRegistrants must be present at the time of the awards ceremony. They will be disqualified for awards if they leave early.\nNo political statements of any kind will be allowed.\nNo offensive language or displays will be allowed.\nSmoking will be available in a designated space only and not throughout the campus.\nThe Racine Zoo is not responsible for any damaged or missing items or personal injury.\nOnly purchase tickets through the Racine Zoo website or in person at the Zoo. All other places tickets may be sold are a scam.\nProceeds benefit the animals and programs of the Racine Zoo.\nALL PURCHASES ARE NON-REFUNDABLE. \nFor more information on participating in or sponsoring the show\, please call 262-636-9274. \nNot a Zoo Member? Don’t want to miss out on the special discounts? Join today and SAVE!
URL:https://racinedowntown.com/event/racine-zoo-presents-the-28th-annual-car-truck-and-bike-show/
END:VEVENT
END:VCALENDAR