BEGIN:VCALENDAR
VERSION:2.0
PRODID:-//Downtown Racine Corporation - ECPv5.9.1//NONSGML v1.0//EN
CALSCALE:GREGORIAN
METHOD:PUBLISH
X-WR-CALNAME:Downtown Racine Corporation
X-ORIGINAL-URL:https://racinedowntown.com
X-WR-CALDESC:Events for Downtown Racine Corporation
BEGIN:VTIMEZONE
TZID:America/Chicago
BEGIN:DAYLIGHT
TZOFFSETFROM:-0600
TZOFFSETTO:-0500
TZNAME:CDT
DTSTART:20240310T080000
END:DAYLIGHT
BEGIN:STANDARD
TZOFFSETFROM:-0500
TZOFFSETTO:-0600
TZNAME:CST
DTSTART:20241103T070000
END:STANDARD
END:VTIMEZONE
BEGIN:VEVENT
DTSTART;TZID=America/Chicago:20241005T180000
DTEND;TZID=America/Chicago:20241005T210000
DTSTAMP:20260421T093818
CREATED:20240926T190946Z
LAST-MODIFIED:20240926T190946Z
UID:15856-1728151200-1728162000@racinedowntown.com
SUMMARY:Old Fashioned Cocktail Night
DESCRIPTION:Join the Racine Zoo in celebrating Wisconsin’s classic cocktail. Sample old fashioned cocktails from competitors while listening to live music. There will be a crowd favorite vote along with our panel of judges to reveal the winners at the end of the fest! Food is included with admission! Additional drinks will be available for purchase.
URL:https://racinedowntown.com/event/old-fashioned-cocktail-night/
LOCATION:Racine Zoo\, 200 Goold Street\, Racine\, WI
CATEGORIES:Drink
ATTACH;FMTTYPE=image/jpeg:https://racinedowntown.com/wp-content/uploads/2024/09/OldFashionedCocktailNight2023_website.jpg
END:VEVENT
END:VCALENDAR