BEGIN:VCALENDAR
VERSION:2.0
PRODID:-//Downtown Racine Corporation - ECPv5.9.1//NONSGML v1.0//EN
CALSCALE:GREGORIAN
METHOD:PUBLISH
X-WR-CALNAME:Downtown Racine Corporation
X-ORIGINAL-URL:https://racinedowntown.com
X-WR-CALDESC:Events for Downtown Racine Corporation
BEGIN:VTIMEZONE
TZID:America/Chicago
BEGIN:DAYLIGHT
TZOFFSETFROM:-0600
TZOFFSETTO:-0500
TZNAME:CDT
DTSTART:20250309T080000
END:DAYLIGHT
BEGIN:STANDARD
TZOFFSETFROM:-0500
TZOFFSETTO:-0600
TZNAME:CST
DTSTART:20251102T070000
END:STANDARD
END:VTIMEZONE
BEGIN:VEVENT
DTSTART;TZID=America/Chicago:20251205T180000
DTEND;TZID=America/Chicago:20251205T220000
DTSTAMP:20260424T150518
CREATED:20251122T173016Z
LAST-MODIFIED:20251122T173037Z
UID:19311-1764957600-1764972000@racinedowntown.com
SUMMARY:Festival of Trees- Caledonia Conservancy Wine Tasting
DESCRIPTION:This ticketed event features wine\, beer and spirits tasting hosted  by the Caledonia Conservancy.
URL:https://racinedowntown.com/event/festival-of-trees-caledonia-conservancy-wine-tasting/
LOCATION:Festival Hall\, 5 Fifth Street\, Racine\, 53403
CATEGORIES:Festivals
ATTACH;FMTTYPE=image/jpeg:https://racinedowntown.com/wp-content/uploads/2025/11/Caledonia-Conservancy.jpg
ORGANIZER;CN="5Kevents.org":MAILTO:patrick@5kevents.org
END:VEVENT
END:VCALENDAR