BEGIN:VCALENDAR
VERSION:2.0
PRODID:-//Downtown Racine Corporation - ECPv5.9.1//NONSGML v1.0//EN
CALSCALE:GREGORIAN
METHOD:PUBLISH
X-WR-CALNAME:Downtown Racine Corporation
X-ORIGINAL-URL:https://racinedowntown.com
X-WR-CALDESC:Events for Downtown Racine Corporation
BEGIN:VTIMEZONE
TZID:America/Chicago
BEGIN:DAYLIGHT
TZOFFSETFROM:-0600
TZOFFSETTO:-0500
TZNAME:CDT
DTSTART:20260308T080000
END:DAYLIGHT
BEGIN:STANDARD
TZOFFSETFROM:-0500
TZOFFSETTO:-0600
TZNAME:CST
DTSTART:20261101T070000
END:STANDARD
END:VTIMEZONE
BEGIN:VEVENT
DTSTART;TZID=America/Chicago:20260515T120000
DTEND;TZID=America/Chicago:20260517T200000
DTSTAMP:20260422T080141
CREATED:20260417T232854Z
LAST-MODIFIED:20260417T233334Z
UID:19980-1778846400-1779048000@racinedowntown.com
SUMMARY:East Meets West
DESCRIPTION:East Meets West is your invitation to cross I-94 and experience the energy of downtown Racine. \nFor one special weekend\, we’re welcoming residents from western Racine County to explore a vibrant mix of local shopping\, art\, culture\, and incredible food along the lakefront. Stroll through unique boutiques\, discover creative spaces\, and enjoy everything that makes downtown Racine a destination. \nPick up your FREE Coupon Flyer—available at the Burlington and Waterford Chamber offices or the Downtown Racine Corporation. This exclusive\, weekend-only piece features 12 downtown locations offering special deals on food\, drinks\, shopping\, and more. Coupons: Click Here \nMake a full day of it: \nStart your morning at the Racine Farmers Market at Festival Park (9 AM–1 PM)\nGrab tickets in advance for the DRC Wine Walk\nSpend the afternoon exploring downtown shops\, restaurants\, and lakefront views \nBring friends\, plan your route\, and come see what downtown Racine is all about—this is the weekend everyone will be talking about. \nAnd the experience continues this September\, when downtown Racine heads west for a reciprocal weekend hosted by communities across Racine County. \nPrint coupons for the weekend here
URL:https://racinedowntown.com/event/east-meets-west/
LOCATION:Downtown Racine\, Racine\, WI
CATEGORIES:Food,Shopping
ATTACH;FMTTYPE=image/jpeg:https://racinedowntown.com/wp-content/uploads/2026/04/2026-fb-carousel-East-meets-west.jpg
END:VEVENT
END:VCALENDAR