BEGIN:VCALENDAR
VERSION:2.0
PRODID:-//Downtown Racine Corporation - ECPv5.9.1//NONSGML v1.0//EN
CALSCALE:GREGORIAN
METHOD:PUBLISH
X-WR-CALNAME:Downtown Racine Corporation
X-ORIGINAL-URL:https://racinedowntown.com
X-WR-CALDESC:Events for Downtown Racine Corporation
BEGIN:VTIMEZONE
TZID:America/Chicago
BEGIN:DAYLIGHT
TZOFFSETFROM:-0600
TZOFFSETTO:-0500
TZNAME:CDT
DTSTART:20250309T080000
END:DAYLIGHT
BEGIN:STANDARD
TZOFFSETFROM:-0500
TZOFFSETTO:-0600
TZNAME:CST
DTSTART:20251102T070000
END:STANDARD
END:VTIMEZONE
BEGIN:VEVENT
DTSTART;TZID=America/Chicago:20251025T120000
DTEND;TZID=America/Chicago:20251025T140000
DTSTAMP:20260424T041345
CREATED:20241221T115729Z
LAST-MODIFIED:20250124T210703Z
UID:17989-1761393600-1761400800@racinedowntown.com
SUMMARY:Downtown Racine Candy Crawl
DESCRIPTION:🎃 Save the date for Saturday\, October 25\, 2025\, from noon to 2 pm\, as Downtown Racine transforms into a spooktacular haven for our 6th annual Candy Crawl and Halloween Scavenger Hunt. It’s a family-friendly extravaganza designed to enchant your little monsters\, princesses\, and Minions with a free and safe trick-or-treating adventure. Join the festive fun as over 30 Downtown businesses open their doors to pass out delightful treats. \nEmbark on a thrilling self-guided Halloween-themed scavenger hunt\, promising wholesome family entertainment. Seek out spooky objects cleverly hidden in store windows\, with scavenger hunt forms available for download at RacineDowntown.com or at our Downtown Racine Corporation office (425 Main St.). Complete the hunt\, drop off your forms at the DRC office\, and stand a chance to win one of three exciting kid’s prize packs.\nThe scavenger hunt map conveniently highlights the Candy Crawl giveaway locations\, ensuring that every little ghoul and goblin has a magical time. It’s a bewitching blend of treats\, treasures\, and family joy – join us for a Halloween celebration that promises smiles\, laughter\, and unforgettable memories! 🎃🍬 \nParking: We’ve got you covered! Park conveniently at the Lake Avenue Ramp\, Shoop Ramp\, Civic Centre Ramp\, or the McMynn Ramp for an unbeatable rate of just $4.00 all day.
URL:https://racinedowntown.com/event/downtown-racine-candy-crawl/
LOCATION:Downtown Racine\, Racine\, WI
CATEGORIES:Food
ATTACH;FMTTYPE=image/jpeg:https://racinedowntown.com/wp-content/uploads/2025/01/2025-fb-event-candy-crawl-1.jpg
END:VEVENT
END:VCALENDAR