BEGIN:VCALENDAR
VERSION:2.0
PRODID:-//Downtown Racine Corporation - ECPv5.9.1//NONSGML v1.0//EN
CALSCALE:GREGORIAN
METHOD:PUBLISH
X-WR-CALNAME:Downtown Racine Corporation
X-ORIGINAL-URL:https://racinedowntown.com
X-WR-CALDESC:Events for Downtown Racine Corporation
BEGIN:VTIMEZONE
TZID:America/Chicago
BEGIN:DAYLIGHT
TZOFFSETFROM:-0600
TZOFFSETTO:-0500
TZNAME:CDT
DTSTART:20250309T080000
END:DAYLIGHT
BEGIN:STANDARD
TZOFFSETFROM:-0500
TZOFFSETTO:-0600
TZNAME:CST
DTSTART:20251102T070000
END:STANDARD
END:VTIMEZONE
BEGIN:VEVENT
DTSTART;TZID=America/Chicago:20250130T170000
DTEND;TZID=America/Chicago:20250130T200000
DTSTAMP:20260420T093728
CREATED:20241219T200206Z
LAST-MODIFIED:20241219T200216Z
UID:17316-1738256400-1738267200@racinedowntown.com
SUMMARY:Crochet 101 Class
DESCRIPTION:Want to learn how to crochet? Then this class is for you! We are covering the basics – so this is a class for anyone that has never picked up a crochet hook (or it’s been a really long time)!
URL:https://racinedowntown.com/event/crochet-101-class/
LOCATION:Unraveled Creative Studio\, 614 Sixth Street\, Racine\, 53403
CATEGORIES:Arts
ATTACH;FMTTYPE=image/jpeg:https://racinedowntown.com/wp-content/uploads/2024/12/Crochet.jpg
ORGANIZER;CN="Unraveled%20Creative%20Studio":MAILTO:hello@unraveledcreativestudio.com
END:VEVENT
END:VCALENDAR