BEGIN:VCALENDAR
VERSION:2.0
PRODID:-//Downtown Racine Corporation - ECPv5.9.1//NONSGML v1.0//EN
CALSCALE:GREGORIAN
METHOD:PUBLISH
X-WR-CALNAME:Downtown Racine Corporation
X-ORIGINAL-URL:https://racinedowntown.com
X-WR-CALDESC:Events for Downtown Racine Corporation
BEGIN:VTIMEZONE
TZID:America/Chicago
BEGIN:DAYLIGHT
TZOFFSETFROM:-0600
TZOFFSETTO:-0500
TZNAME:CDT
DTSTART:20250309T080000
END:DAYLIGHT
BEGIN:STANDARD
TZOFFSETFROM:-0500
TZOFFSETTO:-0600
TZNAME:CST
DTSTART:20251102T070000
END:STANDARD
END:VTIMEZONE
BEGIN:VEVENT
DTSTART;TZID=America/Chicago:20251212T150000
DTEND;TZID=America/Chicago:20251212T220000
DTSTAMP:20260420T041749
CREATED:20251122T173002Z
LAST-MODIFIED:20251122T173025Z
UID:19345-1765551600-1765576800@racinedowntown.com
SUMMARY:Christmas Eave
DESCRIPTION:Starting December 2nd\, Eave will transform into a winter wonderland\, decked out in Christmas decor from top to bottom. Grab your elves and take the elevator to the North Pole on the 5th floor. Our menu will transform into Mrs. Claus’ specials\, offering festive cocktails\, savory small bites\, gingerbread kits\, and a Sleigh Ride Shot Sampler (when you’re feeling extra chilly!) this holiday season. \nWHEN: December 2nd through January 3rd  \nHOURS:\nMonday – Saturday: 3 to 10 PM\nSunday: 3 to 9 PM \nWHERE: Hotel Verdant’s Indoor-Outdoor Rooftop Bar\, Eave \nNo reservation or ticket required—just bring your holiday spirit!
URL:https://racinedowntown.com/event/christmas-eave/2025-12-12/
LOCATION:Hotel Verdant\, 500 Main Street\, Racine\, WI\, 53403
ATTACH;FMTTYPE=image/png:https://racinedowntown.com/wp-content/uploads/2025/11/EAVE-2025-10-Social-Graphic-Christmas-Eave_Slide1_FINAL.png
ORGANIZER;CN="Eave":MAILTO:info@hotelverdant.com
END:VEVENT
END:VCALENDAR